BEGIN:VCALENDAR
VERSION:2.0
PRODID:-//Avenir de Rennes Gymnastique - ECPv6.15.20//NONSGML v1.0//EN
CALSCALE:GREGORIAN
METHOD:PUBLISH
X-WR-CALNAME:Avenir de Rennes Gymnastique
X-ORIGINAL-URL:https://avenirderennes-gymnastique.fr
X-WR-CALDESC:Évènements pour Avenir de Rennes Gymnastique
REFRESH-INTERVAL;VALUE=DURATION:PT1H
X-Robots-Tag:noindex
X-PUBLISHED-TTL:PT1H
BEGIN:VTIMEZONE
TZID:Europe/Paris
BEGIN:DAYLIGHT
TZOFFSETFROM:+0100
TZOFFSETTO:+0200
TZNAME:CEST
DTSTART:20210328T010000
END:DAYLIGHT
BEGIN:STANDARD
TZOFFSETFROM:+0200
TZOFFSETTO:+0100
TZNAME:CET
DTSTART:20211031T010000
END:STANDARD
BEGIN:DAYLIGHT
TZOFFSETFROM:+0100
TZOFFSETTO:+0200
TZNAME:CEST
DTSTART:20220327T010000
END:DAYLIGHT
BEGIN:STANDARD
TZOFFSETFROM:+0200
TZOFFSETTO:+0100
TZNAME:CET
DTSTART:20221030T010000
END:STANDARD
BEGIN:DAYLIGHT
TZOFFSETFROM:+0100
TZOFFSETTO:+0200
TZNAME:CEST
DTSTART:20230326T010000
END:DAYLIGHT
BEGIN:STANDARD
TZOFFSETFROM:+0200
TZOFFSETTO:+0100
TZNAME:CET
DTSTART:20231029T010000
END:STANDARD
END:VTIMEZONE
BEGIN:VEVENT
DTSTART;TZID=Europe/Paris:20220402T000000
DTEND;TZID=Europe/Paris:20220403T000000
DTSTAMP:20260423T065000
CREATED:20211222T201613Z
LAST-MODIFIED:20211222T201613Z
UID:1528-1648857600-1648944000@avenirderennes-gymnastique.fr
SUMMARY:Concours régional individuels Perf GAF - Brest
DESCRIPTION:Concours régional individuels Perf GAF – Brest
URL:https://avenirderennes-gymnastique.fr/event/concours-regional-individuels-perf-gaf-brest/
LOCATION:Brest
CATEGORIES:Evenements
END:VEVENT
END:VCALENDAR