BEGIN:VCALENDAR
VERSION:2.0
PRODID:-//Avenir de Rennes Gymnastique - ECPv6.15.20//NONSGML v1.0//EN
CALSCALE:GREGORIAN
METHOD:PUBLISH
X-ORIGINAL-URL:https://avenirderennes-gymnastique.fr
X-WR-CALDESC:Évènements pour Avenir de Rennes Gymnastique
REFRESH-INTERVAL;VALUE=DURATION:PT1H
X-Robots-Tag:noindex
X-PUBLISHED-TTL:PT1H
BEGIN:VTIMEZONE
TZID:Europe/Paris
BEGIN:DAYLIGHT
TZOFFSETFROM:+0100
TZOFFSETTO:+0200
TZNAME:CEST
DTSTART:20210328T010000
END:DAYLIGHT
BEGIN:STANDARD
TZOFFSETFROM:+0200
TZOFFSETTO:+0100
TZNAME:CET
DTSTART:20211031T010000
END:STANDARD
BEGIN:DAYLIGHT
TZOFFSETFROM:+0100
TZOFFSETTO:+0200
TZNAME:CEST
DTSTART:20220327T010000
END:DAYLIGHT
BEGIN:STANDARD
TZOFFSETFROM:+0200
TZOFFSETTO:+0100
TZNAME:CET
DTSTART:20221030T010000
END:STANDARD
BEGIN:DAYLIGHT
TZOFFSETFROM:+0100
TZOFFSETTO:+0200
TZNAME:CEST
DTSTART:20230326T010000
END:DAYLIGHT
BEGIN:STANDARD
TZOFFSETFROM:+0200
TZOFFSETTO:+0100
TZNAME:CET
DTSTART:20231029T010000
END:STANDARD
END:VTIMEZONE
BEGIN:VEVENT
DTSTART;TZID=Europe/Paris:20220521T000000
DTEND;TZID=Europe/Paris:20220522T000000
DTSTAMP:20260423T095954
CREATED:20211222T202929Z
LAST-MODIFIED:20220312T203427Z
UID:1538-1653091200-1653177600@avenirderennes-gymnastique.fr
SUMMARY:Concours regroupement individuels Perf GAF - Amilly
DESCRIPTION:Concours regroupement individuels Perf GAF – Amilly
URL:https://avenirderennes-gymnastique.fr/event/concours-regroupement-individuels-perf-gaf/
LOCATION:Amilly
CATEGORIES:Evenements
END:VEVENT
END:VCALENDAR