BEGIN:VCALENDAR
VERSION:2.0
PRODID:-//Avenir de Rennes Gymnastique - ECPv6.15.20//NONSGML v1.0//EN
CALSCALE:GREGORIAN
METHOD:PUBLISH
X-WR-CALNAME:Avenir de Rennes Gymnastique
X-ORIGINAL-URL:https://avenirderennes-gymnastique.fr
X-WR-CALDESC:Évènements pour Avenir de Rennes Gymnastique
REFRESH-INTERVAL;VALUE=DURATION:PT1H
X-Robots-Tag:noindex
X-PUBLISHED-TTL:PT1H
BEGIN:VTIMEZONE
TZID:Europe/Paris
BEGIN:DAYLIGHT
TZOFFSETFROM:+0100
TZOFFSETTO:+0200
TZNAME:CEST
DTSTART:20220327T010000
END:DAYLIGHT
BEGIN:STANDARD
TZOFFSETFROM:+0200
TZOFFSETTO:+0100
TZNAME:CET
DTSTART:20221030T010000
END:STANDARD
BEGIN:DAYLIGHT
TZOFFSETFROM:+0100
TZOFFSETTO:+0200
TZNAME:CEST
DTSTART:20230326T010000
END:DAYLIGHT
BEGIN:STANDARD
TZOFFSETFROM:+0200
TZOFFSETTO:+0100
TZNAME:CET
DTSTART:20231029T010000
END:STANDARD
BEGIN:DAYLIGHT
TZOFFSETFROM:+0100
TZOFFSETTO:+0200
TZNAME:CEST
DTSTART:20240331T010000
END:DAYLIGHT
BEGIN:STANDARD
TZOFFSETFROM:+0200
TZOFFSETTO:+0100
TZNAME:CET
DTSTART:20241027T010000
END:STANDARD
END:VTIMEZONE
BEGIN:VEVENT
DTSTART;VALUE=DATE:20230610
DTEND;VALUE=DATE:20230612
DTSTAMP:20260425T215550
CREATED:20230103T204701Z
LAST-MODIFIED:20230103T204701Z
UID:1754-1686355200-1686527999@avenirderennes-gymnastique.fr
SUMMARY:Finale Regroupement individuel perf - Lanester
DESCRIPTION:Finale Regroupement individuel perf – Lanester
URL:https://avenirderennes-gymnastique.fr/event/finale-regroupement-individuel-perf-lanester/
LOCATION:Lanester\, rue Pierre de Coubertin\, Lanester\, France
CATEGORIES:Evenements
END:VEVENT
END:VCALENDAR