BEGIN:VCALENDAR
VERSION:2.0
PRODID:-//Avenir de Rennes Gymnastique - ECPv6.15.20//NONSGML v1.0//EN
CALSCALE:GREGORIAN
METHOD:PUBLISH
X-ORIGINAL-URL:https://avenirderennes-gymnastique.fr
X-WR-CALDESC:Évènements pour Avenir de Rennes Gymnastique
REFRESH-INTERVAL;VALUE=DURATION:PT1H
X-Robots-Tag:noindex
X-PUBLISHED-TTL:PT1H
BEGIN:VTIMEZONE
TZID:Europe/Paris
BEGIN:DAYLIGHT
TZOFFSETFROM:+0100
TZOFFSETTO:+0200
TZNAME:CEST
DTSTART:20210328T010000
END:DAYLIGHT
BEGIN:STANDARD
TZOFFSETFROM:+0200
TZOFFSETTO:+0100
TZNAME:CET
DTSTART:20211031T010000
END:STANDARD
BEGIN:DAYLIGHT
TZOFFSETFROM:+0100
TZOFFSETTO:+0200
TZNAME:CEST
DTSTART:20220327T010000
END:DAYLIGHT
BEGIN:STANDARD
TZOFFSETFROM:+0200
TZOFFSETTO:+0100
TZNAME:CET
DTSTART:20221030T010000
END:STANDARD
BEGIN:DAYLIGHT
TZOFFSETFROM:+0100
TZOFFSETTO:+0200
TZNAME:CEST
DTSTART:20230326T010000
END:DAYLIGHT
BEGIN:STANDARD
TZOFFSETFROM:+0200
TZOFFSETTO:+0100
TZNAME:CET
DTSTART:20231029T010000
END:STANDARD
BEGIN:DAYLIGHT
TZOFFSETFROM:+0100
TZOFFSETTO:+0200
TZNAME:CEST
DTSTART:20240331T010000
END:DAYLIGHT
BEGIN:STANDARD
TZOFFSETFROM:+0200
TZOFFSETTO:+0100
TZNAME:CET
DTSTART:20241027T010000
END:STANDARD
END:VTIMEZONE
BEGIN:VEVENT
DTSTART;VALUE=DATE:20230610
DTEND;VALUE=DATE:20230612
DTSTAMP:20260423T051559
CREATED:20230103T204701Z
LAST-MODIFIED:20230103T204701Z
UID:1754-1686355200-1686527999@avenirderennes-gymnastique.fr
SUMMARY:Finale Regroupement individuel perf - Lanester
DESCRIPTION:Finale Regroupement individuel perf – Lanester
URL:https://avenirderennes-gymnastique.fr/event/finale-regroupement-individuel-perf-lanester/
LOCATION:Lanester\, rue Pierre de Coubertin\, Lanester\, France
CATEGORIES:Evenements
END:VEVENT
BEGIN:VEVENT
DTSTART;VALUE=DATE:20230603
DTEND;VALUE=DATE:20230605
DTSTAMP:20260423T051559
CREATED:20230103T210239Z
LAST-MODIFIED:20230103T210239Z
UID:1763-1685750400-1685923199@avenirderennes-gymnastique.fr
SUMMARY:Finale régional été jeunesses-ainées FSCF - Bruz
DESCRIPTION:Finale régional été jeunesses-ainées FSCF – Bruz
URL:https://avenirderennes-gymnastique.fr/event/finale-regional-ete-jeunesses-ainees-fscf-bruz/
LOCATION:Vitré
CATEGORIES:Evenements
END:VEVENT
BEGIN:VEVENT
DTSTART;VALUE=DATE:20230603
DTEND;VALUE=DATE:20230605
DTSTAMP:20260423T051559
CREATED:20230103T204236Z
LAST-MODIFIED:20230103T204236Z
UID:1752-1685750400-1685923199@avenirderennes-gymnastique.fr
SUMMARY:Finale Départementale Fédéral B 7-9ans et 10ans - Liffré
DESCRIPTION:Finale Régionale équipes Fédéral B 7-9ans et 10ans – lieu ?
URL:https://avenirderennes-gymnastique.fr/event/finale-departementale-federal-b-7-9ans-et-10ans-liffre/
LOCATION:Liffré
CATEGORIES:Evenements
END:VEVENT
BEGIN:VEVENT
DTSTART;VALUE=DATE:20230527
DTEND;VALUE=DATE:20230530
DTSTAMP:20260423T051559
CREATED:20230103T203749Z
LAST-MODIFIED:20230103T203749Z
UID:1750-1685145600-1685404799@avenirderennes-gymnastique.fr
SUMMARY:Finale Régionale équipes Fédéral B 7-9ans et 10ans - lieu ?
DESCRIPTION:Finale Régionale équipes Fédéral B 7-9ans et 10ans – lieu ?
URL:https://avenirderennes-gymnastique.fr/event/finale-regionale-equipes-federal-b-7-9ans-et-10ans-lieu/
CATEGORIES:Evenements
END:VEVENT
BEGIN:VEVENT
DTSTART;VALUE=DATE:20230513
DTEND;VALUE=DATE:20230515
DTSTAMP:20260423T051559
CREATED:20230103T210057Z
LAST-MODIFIED:20230103T210057Z
UID:1761-1683936000-1684108799@avenirderennes-gymnastique.fr
SUMMARY:Finale départementale été jeunesses-ainées FSCF - Vitré ?
DESCRIPTION:Finale départementale été jeunesses-ainées FSCF – Vitré ?
URL:https://avenirderennes-gymnastique.fr/event/finale-departementale-ete-jeunesses-ainees-fscf-vitre/
LOCATION:Vitré
CATEGORIES:Evenements
END:VEVENT
BEGIN:VEVENT
DTSTART;VALUE=DATE:20230416
DTEND;VALUE=DATE:20230417
DTSTAMP:20260423T051559
CREATED:20230103T205826Z
LAST-MODIFIED:20230103T205826Z
UID:1759-1681603200-1681689599@avenirderennes-gymnastique.fr
SUMMARY:Concours Régional individuel  FSCF - lieu ?
DESCRIPTION:Concours Régional individuel FSCF – lieu ?
URL:https://avenirderennes-gymnastique.fr/event/concours-regional-individuel-fscf-lieu/
CATEGORIES:Evenements
END:VEVENT
BEGIN:VEVENT
DTSTART;VALUE=DATE:20230415
DTEND;VALUE=DATE:20230417
DTSTAMP:20260423T051559
CREATED:20230103T202800Z
LAST-MODIFIED:20230103T202800Z
UID:1746-1681516800-1681689599@avenirderennes-gymnastique.fr
SUMMARY:Regroupement équipes Fédéral A - lieu ?
DESCRIPTION:Regroupement équipes Fédéral A – lieu ?
URL:https://avenirderennes-gymnastique.fr/event/regroupement-equipes-federal-a-lieu/
CATEGORIES:Evenements
END:VEVENT
BEGIN:VEVENT
DTSTART;VALUE=DATE:20230402
DTEND;VALUE=DATE:20230403
DTSTAMP:20260423T051559
CREATED:20230103T205604Z
LAST-MODIFIED:20230103T205604Z
UID:1757-1680393600-1680479999@avenirderennes-gymnastique.fr
SUMMARY:Concours départemental individuel FSCF - Lieu ?
DESCRIPTION:Concours départemental individuel FSCF – Lieu ?
URL:https://avenirderennes-gymnastique.fr/event/concours-departemental-individuel-fscf-lieu/
CATEGORIES:Evenements
END:VEVENT
BEGIN:VEVENT
DTSTART;VALUE=DATE:20230401
DTEND;VALUE=DATE:20230403
DTSTAMP:20260423T051559
CREATED:20230103T202523Z
LAST-MODIFIED:20230103T202523Z
UID:1744-1680307200-1680479999@avenirderennes-gymnastique.fr
SUMMARY:Finale régional individuel Fédéral A - lieu ?
DESCRIPTION:Finale régional individuel Fédéral A – lieu ?
URL:https://avenirderennes-gymnastique.fr/event/finale-regional-individuel-federal-a-lieu/
CATEGORIES:Evenements
END:VEVENT
BEGIN:VEVENT
DTSTART;VALUE=DATE:20230325
DTEND;VALUE=DATE:20230327
DTSTAMP:20260423T051559
CREATED:20230103T201642Z
LAST-MODIFIED:20230103T201642Z
UID:1740-1679702400-1679875199@avenirderennes-gymnastique.fr
SUMMARY:Finale régional équipe perf - Chartres de Bretagne
DESCRIPTION:Finale régional équipe perf – Chartres de Bretagne
URL:https://avenirderennes-gymnastique.fr/event/finale-regional-equipe-perf-chartres-de-bretagne/
LOCATION:Chartres de Bretagne
CATEGORIES:Evenements
END:VEVENT
BEGIN:VEVENT
DTSTART;VALUE=DATE:20230318
DTEND;VALUE=DATE:20230320
DTSTAMP:20260423T051559
CREATED:20230103T203412Z
LAST-MODIFIED:20230103T203412Z
UID:1748-1679097600-1679270399@avenirderennes-gymnastique.fr
SUMMARY:Orientation départementale Fédéral B 7-9ans et 10ans - St Aubin du Cormier
DESCRIPTION:Orientation départementale Fédéral B 7-9ans et 10ans – St Aubin du Cormier
URL:https://avenirderennes-gymnastique.fr/event/orientation-departementale-federal-b-7-9ans-et-10ans-st-aubin-du-cormier/
LOCATION:St Aubin du Cormier
CATEGORIES:Evenements
END:VEVENT
BEGIN:VEVENT
DTSTART;VALUE=DATE:20230311
DTEND;VALUE=DATE:20230313
DTSTAMP:20260423T051559
CREATED:20230103T180616Z
LAST-MODIFIED:20230103T200824Z
UID:1733-1678492800-1678665599@avenirderennes-gymnastique.fr
SUMMARY:Concours régional hivers jeunesses-ainées équipes FSCF - Brest
DESCRIPTION:Concours régional hivers jeunesses-ainées équipes FSCF – Brest
URL:https://avenirderennes-gymnastique.fr/event/concours-regional-hivers-equipes-fscf-brest/
LOCATION:Brest
CATEGORIES:Evenements
END:VEVENT
BEGIN:VEVENT
DTSTART;VALUE=DATE:20230304
DTEND;VALUE=DATE:20230306
DTSTAMP:20260423T051559
CREATED:20230103T201233Z
LAST-MODIFIED:20230103T201233Z
UID:1738-1677888000-1678060799@avenirderennes-gymnastique.fr
SUMMARY:Sélective régional équipe Fédéral A - Dinan
DESCRIPTION:Sélective régional équipe Fédéral A – Dinan
URL:https://avenirderennes-gymnastique.fr/event/selective-regional-equipe-federal-a-dinan/
LOCATION:Dinan
CATEGORIES:Evenements
END:VEVENT
BEGIN:VEVENT
DTSTART;VALUE=DATE:20230204
DTEND;VALUE=DATE:20230206
DTSTAMP:20260423T051559
CREATED:20230102T105901Z
LAST-MODIFIED:20230103T175525Z
UID:1724-1675468800-1675641599@avenirderennes-gymnastique.fr
SUMMARY:Orientation Performance équipes FFG - Fougères
DESCRIPTION:Performance équipes FFG
URL:https://avenirderennes-gymnastique.fr/event/performance-equipes-ffg/
LOCATION:Fougères
CATEGORIES:Evenements
END:VEVENT
BEGIN:VEVENT
DTSTART;VALUE=DATE:20230129
DTEND;VALUE=DATE:20230130
DTSTAMP:20260423T051559
CREATED:20230102T104658Z
LAST-MODIFIED:20230103T175750Z
UID:1718-1674950400-1675036799@avenirderennes-gymnastique.fr
SUMMARY:Concours départemental hivers ainées équipe FSCF - La Guerche de Bretagne
DESCRIPTION:Concours départemental hivers ainées équipe FSCF – La Guerche de Bretagne
URL:https://avenirderennes-gymnastique.fr/event/concours-departemental-hivers-ainees-equipe-fscf/
LOCATION:La Guerche de Bretagne
CATEGORIES:Evenements
END:VEVENT
BEGIN:VEVENT
DTSTART;VALUE=DATE:20230128
DTEND;VALUE=DATE:20230130
DTSTAMP:20260423T051559
CREATED:20230102T104402Z
LAST-MODIFIED:20230103T175948Z
UID:1716-1674864000-1675036799@avenirderennes-gymnastique.fr
SUMMARY:Orientation départementale équipe Fédéral A FFG - Chartres de Bretagne
DESCRIPTION:Orientation départementale équipe Fédéral A FFG – Chartres de Bretagne
URL:https://avenirderennes-gymnastique.fr/event/orientation-departementale-equipe-federal-a-ffg/
LOCATION:Chartres de Bretagne
CATEGORIES:Evenements
END:VEVENT
BEGIN:VEVENT
DTSTART;VALUE=DATE:20230121
DTEND;VALUE=DATE:20230123
DTSTAMP:20260423T051559
CREATED:20230103T202118Z
LAST-MODIFIED:20230103T202118Z
UID:1742-1674259200-1674431999@avenirderennes-gymnastique.fr
SUMMARY:Sélective départementale individuel perf - Betton
DESCRIPTION:Sélective départementale individuel perf – Betton
URL:https://avenirderennes-gymnastique.fr/event/selective-departementale-individuel-perf-betton/
LOCATION:Betton
CATEGORIES:Evenements
END:VEVENT
BEGIN:VEVENT
DTSTART;VALUE=DATE:20230121
DTEND;VALUE=DATE:20230123
DTSTAMP:20260423T051559
CREATED:20230102T103611Z
LAST-MODIFIED:20230103T180112Z
UID:1714-1674259200-1674431999@avenirderennes-gymnastique.fr
SUMMARY:Orientation départementale Fédéral A  et Performance individuel FFG - Fougères
DESCRIPTION:Orientation départementale Fédéral A et Performance individuel FFG – Fougères
URL:https://avenirderennes-gymnastique.fr/event/orientation-departementale-federal-a-individuel-ffg/
LOCATION:Fougères
CATEGORIES:Evenements
END:VEVENT
BEGIN:VEVENT
DTSTART;VALUE=DATE:20230114
DTEND;VALUE=DATE:20230116
DTSTAMP:20260423T051559
CREATED:20230102T103053Z
LAST-MODIFIED:20230103T180211Z
UID:1712-1673654400-1673827199@avenirderennes-gymnastique.fr
SUMMARY:Concours départementale hivers jeunesses équipe FSCF - Bruz
DESCRIPTION:Concours départementale hivers jeunesses équipe FSCF – Bruz
URL:https://avenirderennes-gymnastique.fr/event/concours-departementale-hivers-fscf-equipe-jeunesses/
LOCATION:Bruz
CATEGORIES:Evenements
END:VEVENT
BEGIN:VEVENT
DTSTART;TZID=Europe/Paris:20220618T000000
DTEND;TZID=Europe/Paris:20220619T000000
DTSTAMP:20260423T051559
CREATED:20211222T204223Z
LAST-MODIFIED:20211222T204321Z
UID:1543-1655510400-1655596800@avenirderennes-gymnastique.fr
SUMMARY:Finale Régionale équipes Fed B et 7-8-9 ans GAF - St Brieuc
DESCRIPTION:Finale Régionale équipes Fed B et 7-8-9 ans GAF – St Brieuc
URL:https://avenirderennes-gymnastique.fr/event/finale-regional-equipes-fed-b-et-7-8-9-ans-gaf-st-brieuc/
LOCATION:St Brieuc
CATEGORIES:Evenements
END:VEVENT
BEGIN:VEVENT
DTSTART;TZID=Europe/Paris:20220617T000000
DTEND;TZID=Europe/Paris:20220619T000000
DTSTAMP:20260423T051559
CREATED:20211222T205939Z
LAST-MODIFIED:20211222T205939Z
UID:1555-1655424000-1655596800@avenirderennes-gymnastique.fr
SUMMARY:Finale nationale individuels Perf GAF - Liéven
DESCRIPTION:Finale nationale individuels Perf GAF – Liéven
URL:https://avenirderennes-gymnastique.fr/event/finale-nationale-individuels-perf-gaf-lieven/
LOCATION:Liéven
CATEGORIES:Evenements
END:VEVENT
BEGIN:VEVENT
DTSTART;TZID=Europe/Paris:20220611T000000
DTEND;TZID=Europe/Paris:20220612T000000
DTSTAMP:20260423T051559
CREATED:20211222T203722Z
LAST-MODIFIED:20211222T203722Z
UID:1540-1654905600-1654992000@avenirderennes-gymnastique.fr
SUMMARY:Finale regroupement individuels Perf GAF - Mouilleron le Captif
DESCRIPTION:Finale regroupement individuels Perf GAF – Mouilleron le Captif \n10-11 ans / 12-13 ans / 14-15 ans / 16-17 ans / 18 ans et + / Performance régional 7-8-9 ans
URL:https://avenirderennes-gymnastique.fr/event/finale-regroupement-individuels-perf-gaf-mouilleron-le-captif/
CATEGORIES:Evenements
END:VEVENT
BEGIN:VEVENT
DTSTART;TZID=Europe/Paris:20220604T000000
DTEND;TZID=Europe/Paris:20220606T000000
DTSTAMP:20260423T051559
CREATED:20211222T205332Z
LAST-MODIFIED:20211222T205332Z
UID:1552-1654300800-1654473600@avenirderennes-gymnastique.fr
SUMMARY:Finale nationale Perf (finale A) - Oyonnax
DESCRIPTION:Finale nationale Perf (finale A) – Oyonnax
URL:https://avenirderennes-gymnastique.fr/event/finale-nationale-perf-finale-a-oyonnax/
LOCATION:Oyonnax
CATEGORIES:Evenements
END:VEVENT
BEGIN:VEVENT
DTSTART;TZID=Europe/Paris:20220528T000000
DTEND;TZID=Europe/Paris:20220529T000000
DTSTAMP:20260423T051559
CREATED:20211222T194814Z
LAST-MODIFIED:20211222T200109Z
UID:1514-1653696000-1653782400@avenirderennes-gymnastique.fr
SUMMARY:Concours départemental équipes Fed A et B GAF / Individuels Fed A GAF - St Aubin du Cormier
DESCRIPTION:Concours départemental équipes Fed A et B GAF / Individuels Fed A GAF – St Aubin du Cormier
URL:https://avenirderennes-gymnastique.fr/event/concours-departementale-equipes-fed-a-et-b-gaf-individuels-fed-a-gaf-st-aubin-du-cormier/
LOCATION:St Aubin du Cormier
CATEGORIES:Evenements
END:VEVENT
BEGIN:VEVENT
DTSTART;TZID=Europe/Paris:20220527T000000
DTEND;TZID=Europe/Paris:20220529T000000
DTSTAMP:20260423T051559
CREATED:20211222T204827Z
LAST-MODIFIED:20211222T204827Z
UID:1549-1653609600-1653782400@avenirderennes-gymnastique.fr
SUMMARY:Finale nationale équipes Perf (finale B) - Cognac
DESCRIPTION:Finale nationale équipes Perf (finale B) – Cognac
URL:https://avenirderennes-gymnastique.fr/event/finale-nationale-equipes-perf-finale-b-cognac/
LOCATION:Cognac
CATEGORIES:Evenements
END:VEVENT
BEGIN:VEVENT
DTSTART;TZID=Europe/Paris:20220521T000000
DTEND;TZID=Europe/Paris:20220522T000000
DTSTAMP:20260423T051559
CREATED:20211222T202929Z
LAST-MODIFIED:20220312T203427Z
UID:1538-1653091200-1653177600@avenirderennes-gymnastique.fr
SUMMARY:Concours regroupement individuels Perf GAF - Amilly
DESCRIPTION:Concours regroupement individuels Perf GAF – Amilly
URL:https://avenirderennes-gymnastique.fr/event/concours-regroupement-individuels-perf-gaf/
LOCATION:Amilly
CATEGORIES:Evenements
END:VEVENT
BEGIN:VEVENT
DTSTART;TZID=Europe/Paris:20220513T000000
DTEND;TZID=Europe/Paris:20220515T000000
DTSTAMP:20260423T051559
CREATED:20211222T204520Z
LAST-MODIFIED:20211222T204520Z
UID:1547-1652400000-1652572800@avenirderennes-gymnastique.fr
SUMMARY:Finale nationale équipe Fed A GAF -
DESCRIPTION:Finale nationale équipe Fed A GAF –
URL:https://avenirderennes-gymnastique.fr/event/finale-nationale-equipe-fed-a-gaf/
LOCATION:A déterminer
CATEGORIES:Evenements
END:VEVENT
BEGIN:VEVENT
DTSTART;TZID=Europe/Paris:20220507T000000
DTEND;TZID=Europe/Paris:20220508T000000
DTSTAMP:20260423T051559
CREATED:20211222T202620Z
LAST-MODIFIED:20211222T202620Z
UID:1535-1651881600-1651968000@avenirderennes-gymnastique.fr
SUMMARY:Concours regroupement équipes Perf GAF - Chemillé
DESCRIPTION:Concours regroupement équipes Perf GAF – Chemillé
URL:https://avenirderennes-gymnastique.fr/event/concours-regroupement-equipes-perf-gaf-chemille/
LOCATION:Chemillé
CATEGORIES:Evenements
END:VEVENT
BEGIN:VEVENT
DTSTART;TZID=Europe/Paris:20220430T000000
DTEND;TZID=Europe/Paris:20220501T000000
DTSTAMP:20260423T051559
CREATED:20211222T202311Z
LAST-MODIFIED:20211222T202311Z
UID:1533-1651276800-1651363200@avenirderennes-gymnastique.fr
SUMMARY:Concours régional individuels Fed A GAF - Betton
DESCRIPTION:Concours régional individuels Fed A GAF – Betton
URL:https://avenirderennes-gymnastique.fr/event/concours-regional-individuels-fed-a-gaf-betton/
LOCATION:Betton
CATEGORIES:Evenements
END:VEVENT
BEGIN:VEVENT
DTSTART;TZID=Europe/Paris:20220409T000000
DTEND;TZID=Europe/Paris:20220410T000000
DTSTAMP:20260423T051559
CREATED:20211222T202026Z
LAST-MODIFIED:20220312T203708Z
UID:1530-1649462400-1649548800@avenirderennes-gymnastique.fr
SUMMARY:Concours regroupement équipes Fed A GAF - Saumur
DESCRIPTION:Concours regroupement équipes Fed A GAF – Saumur
URL:https://avenirderennes-gymnastique.fr/event/concours-regroupement-equipes-fed-a-gaf/
LOCATION:Saumur
CATEGORIES:Evenements
END:VEVENT
END:VCALENDAR