BEGIN:VCALENDAR
VERSION:2.0
PRODID:-//Avenir de Rennes Gymnastique - ECPv6.15.20//NONSGML v1.0//EN
CALSCALE:GREGORIAN
METHOD:PUBLISH
X-ORIGINAL-URL:https://avenirderennes-gymnastique.fr
X-WR-CALDESC:Évènements pour Avenir de Rennes Gymnastique
REFRESH-INTERVAL;VALUE=DURATION:PT1H
X-Robots-Tag:noindex
X-PUBLISHED-TTL:PT1H
BEGIN:VTIMEZONE
TZID:Europe/Paris
BEGIN:DAYLIGHT
TZOFFSETFROM:+0100
TZOFFSETTO:+0200
TZNAME:CEST
DTSTART:20210328T010000
END:DAYLIGHT
BEGIN:STANDARD
TZOFFSETFROM:+0200
TZOFFSETTO:+0100
TZNAME:CET
DTSTART:20211031T010000
END:STANDARD
BEGIN:DAYLIGHT
TZOFFSETFROM:+0100
TZOFFSETTO:+0200
TZNAME:CEST
DTSTART:20220327T010000
END:DAYLIGHT
BEGIN:STANDARD
TZOFFSETFROM:+0200
TZOFFSETTO:+0100
TZNAME:CET
DTSTART:20221030T010000
END:STANDARD
BEGIN:DAYLIGHT
TZOFFSETFROM:+0100
TZOFFSETTO:+0200
TZNAME:CEST
DTSTART:20230326T010000
END:DAYLIGHT
BEGIN:STANDARD
TZOFFSETFROM:+0200
TZOFFSETTO:+0100
TZNAME:CET
DTSTART:20231029T010000
END:STANDARD
END:VTIMEZONE
BEGIN:VEVENT
DTSTART;TZID=Europe/Paris:20220604T000000
DTEND;TZID=Europe/Paris:20220606T000000
DTSTAMP:20260423T095958
CREATED:20211222T205332Z
LAST-MODIFIED:20211222T205332Z
UID:1552-1654300800-1654473600@avenirderennes-gymnastique.fr
SUMMARY:Finale nationale Perf (finale A) - Oyonnax
DESCRIPTION:Finale nationale Perf (finale A) – Oyonnax
URL:https://avenirderennes-gymnastique.fr/event/finale-nationale-perf-finale-a-oyonnax/
LOCATION:Oyonnax
CATEGORIES:Evenements
END:VEVENT
BEGIN:VEVENT
DTSTART;TZID=Europe/Paris:20220611T000000
DTEND;TZID=Europe/Paris:20220612T000000
DTSTAMP:20260423T095958
CREATED:20211222T203722Z
LAST-MODIFIED:20211222T203722Z
UID:1540-1654905600-1654992000@avenirderennes-gymnastique.fr
SUMMARY:Finale regroupement individuels Perf GAF - Mouilleron le Captif
DESCRIPTION:Finale regroupement individuels Perf GAF – Mouilleron le Captif \n10-11 ans / 12-13 ans / 14-15 ans / 16-17 ans / 18 ans et + / Performance régional 7-8-9 ans
URL:https://avenirderennes-gymnastique.fr/event/finale-regroupement-individuels-perf-gaf-mouilleron-le-captif/
CATEGORIES:Evenements
END:VEVENT
BEGIN:VEVENT
DTSTART;TZID=Europe/Paris:20220617T000000
DTEND;TZID=Europe/Paris:20220619T000000
DTSTAMP:20260423T095958
CREATED:20211222T205939Z
LAST-MODIFIED:20211222T205939Z
UID:1555-1655424000-1655596800@avenirderennes-gymnastique.fr
SUMMARY:Finale nationale individuels Perf GAF - Liéven
DESCRIPTION:Finale nationale individuels Perf GAF – Liéven
URL:https://avenirderennes-gymnastique.fr/event/finale-nationale-individuels-perf-gaf-lieven/
LOCATION:Liéven
CATEGORIES:Evenements
END:VEVENT
BEGIN:VEVENT
DTSTART;TZID=Europe/Paris:20220618T000000
DTEND;TZID=Europe/Paris:20220619T000000
DTSTAMP:20260423T095958
CREATED:20211222T204223Z
LAST-MODIFIED:20211222T204321Z
UID:1543-1655510400-1655596800@avenirderennes-gymnastique.fr
SUMMARY:Finale Régionale équipes Fed B et 7-8-9 ans GAF - St Brieuc
DESCRIPTION:Finale Régionale équipes Fed B et 7-8-9 ans GAF – St Brieuc
URL:https://avenirderennes-gymnastique.fr/event/finale-regional-equipes-fed-b-et-7-8-9-ans-gaf-st-brieuc/
LOCATION:St Brieuc
CATEGORIES:Evenements
END:VEVENT
END:VCALENDAR